BEGIN:VCALENDAR
VERSION:2.0
PRODID:-//Tukios.com/
BEGIN:VEVENT
UID:ec894e6b-1a45-4b67-8da3-2f88c94c739f@www.newellhoerlings.com
DTSTAMP:20260422T000557Z
DTSTART:20260424T173000Z
DTEND:20260424T180000Z
SUMMARY:Graveside Service
DESCRIPTION:
URL:https://www.newellhoerlings.com/obituaries/virgil-potter
LOCATION:Mountain View Cemetery 1113 Caveness Dr  Centralia WA 98531
GEO:46.729482;-122.9858683
END:VEVENT
END:VCALENDAR